BEGIN:VCALENDAR
VERSION:2.0
PRODID:-//SKLA - ECPv6.7.1//NONSGML v1.0//EN
CALSCALE:GREGORIAN
METHOD:PUBLISH
X-WR-CALNAME:SKLA
X-ORIGINAL-URL:https://saskatchewanlandlordassociation.ca
X-WR-CALDESC:Events for SKLA
REFRESH-INTERVAL;VALUE=DURATION:PT1H
X-Robots-Tag:noindex
X-PUBLISHED-TTL:PT1H
BEGIN:VTIMEZONE
TZID:America/Chicago
BEGIN:DAYLIGHT
TZOFFSETFROM:-0600
TZOFFSETTO:-0500
TZNAME:CDT
DTSTART:20240310T080000
END:DAYLIGHT
BEGIN:STANDARD
TZOFFSETFROM:-0500
TZOFFSETTO:-0600
TZNAME:CST
DTSTART:20241103T070000
END:STANDARD
END:VTIMEZONE
BEGIN:VEVENT
DTSTART;TZID=America/Chicago:20241203T113000
DTEND;TZID=America/Chicago:20241203T133000
DTSTAMP:20260425T143330
CREATED:20241104T205636Z
LAST-MODIFIED:20241104T205636Z
UID:4762-1733225400-1733232600@saskatchewanlandlordassociation.ca
SUMMARY:Saskatoon Lunch N' Learn - Critter Control: Managing Bedbugs\, Rodents & Roaches
DESCRIPTION:Join us in Saskatoon as we learn about controlling critters. Mark Gibson from Abell Pest Control will walk through the causes and treatments of bed bugs\, rodents\, and roaches in your rental property. Then we will discuss pets in your rental. Presentation materials\, coffee\, and lunch will be provided. \nRegister today.
URL:https://saskatchewanlandlordassociation.ca/events/saskatoon-lunch-n-learn-critter-control-managing-bedbugs-rodents-roaches/
LOCATION:SRA Office\, 1705 Mckercher Dr\, Saskatoon\, SK\, Canada
END:VEVENT
END:VCALENDAR