BEGIN:VCALENDAR
VERSION:2.0
PRODID:-//SKLA - ECPv6.7.1//NONSGML v1.0//EN
CALSCALE:GREGORIAN
METHOD:PUBLISH
X-WR-CALNAME:SKLA
X-ORIGINAL-URL:https://saskatchewanlandlordassociation.ca
X-WR-CALDESC:Events for SKLA
REFRESH-INTERVAL;VALUE=DURATION:PT1H
X-Robots-Tag:noindex
X-PUBLISHED-TTL:PT1H
BEGIN:VTIMEZONE
TZID:America/Chicago
BEGIN:DAYLIGHT
TZOFFSETFROM:-0600
TZOFFSETTO:-0500
TZNAME:CDT
DTSTART:20230312T080000
END:DAYLIGHT
BEGIN:STANDARD
TZOFFSETFROM:-0500
TZOFFSETTO:-0600
TZNAME:CST
DTSTART:20231105T070000
END:STANDARD
END:VTIMEZONE
BEGIN:VEVENT
DTSTART;TZID=America/Chicago:20230928T080000
DTEND;TZID=America/Chicago:20230928T160000
DTSTAMP:20260425T213715
CREATED:20230511T163013Z
LAST-MODIFIED:20230727T213021Z
UID:3481-1695888000-1695916800@saskatchewanlandlordassociation.ca
SUMMARY:Conference 2023 Education Day\, Tradeshow & Rental Housing Awards
DESCRIPTION:Visit our conference website here.
URL:https://saskatchewanlandlordassociation.ca/events/conference-2023-2/
LOCATION:Saskatoon Inn & Conference Centre\, 2002 Airport Dr.\, Saskatoon\, Saskatchewan\, S7L 6M4\, Canada
END:VEVENT
BEGIN:VEVENT
DTSTART;TZID=America/Chicago:20230927T173000
DTEND;TZID=America/Chicago:20230927T200000
DTSTAMP:20260425T213715
CREATED:20230511T162841Z
LAST-MODIFIED:20230727T213213Z
UID:3479-1695835800-1695844800@saskatchewanlandlordassociation.ca
SUMMARY:Conference 2023 Cocktail Reception
DESCRIPTION:Visit our conference website here.
URL:https://saskatchewanlandlordassociation.ca/events/conference-2023/
LOCATION:Capitol Music Club YXE\, 244 1st Ave N\, Saskatoon\, Saskatchewan\, S7K 1X2\, Canada
END:VEVENT
BEGIN:VEVENT
DTSTART;TZID=America/Chicago:20230627T093000
DTEND;TZID=America/Chicago:20230627T113000
DTSTAMP:20260425T213715
CREATED:20230526T174510Z
LAST-MODIFIED:20230526T174609Z
UID:3523-1687858200-1687865400@saskatchewanlandlordassociation.ca
SUMMARY:Proactive Pest Management
DESCRIPTION:Learn how to prevent and proactively manage pest control in your properties. \n 
URL:https://saskatchewanlandlordassociation.ca/events/proactive-pest-management-2/
LOCATION:Fairfield Inn & Suites\, 3915 Albert St.\, Regina\, Saskatchewan\, S4S 3R4\, Canada
END:VEVENT
BEGIN:VEVENT
DTSTART;TZID=America/Chicago:20230616T120000
DTEND;TZID=America/Chicago:20230616T130000
DTSTAMP:20260425T213715
CREATED:20230526T174900Z
LAST-MODIFIED:20230526T174900Z
UID:3526-1686916800-1686920400@saskatchewanlandlordassociation.ca
SUMMARY:Virtual Event - It's All About The Visuals: Finding Tenants in the Internet Age
DESCRIPTION:Dean Katsiris is the Founder and Owner of Anikio and an expert on marketing your rentals using professional photos\, virtual tours\, and the all-important thumbnail. He will be presenting on the difference a good photo can make\, when and why to use a virtual tour\, how to list and describe your rental\, and how to avoid scams in today’s digital age. \nJoin to access an exclusive discount for SKLA members that will save you money on your marketing! \nRegister for free today!
URL:https://saskatchewanlandlordassociation.ca/events/virtual-event-its-all-about-the-visuals-finding-tenants-in-the-internet-age/
LOCATION:Saskatchewan
END:VEVENT
BEGIN:VEVENT
DTSTART;TZID=America/Chicago:20230511T083000
DTEND;TZID=America/Chicago:20230511T113000
DTSTAMP:20260425T213715
CREATED:20230511T163218Z
LAST-MODIFIED:20230511T163218Z
UID:3483-1683793800-1683804600@saskatchewanlandlordassociation.ca
SUMMARY:Proactive Pest Management
DESCRIPTION:
URL:https://saskatchewanlandlordassociation.ca/events/proactive-pest-management/
LOCATION:Saskatchewan
END:VEVENT
BEGIN:VEVENT
DTSTART;TZID=America/Chicago:20230418T083000
DTEND;TZID=America/Chicago:20230418T113000
DTSTAMP:20260425T213715
CREATED:20230301T195854Z
LAST-MODIFIED:20230324T210459Z
UID:3272-1681806600-1681817400@saskatchewanlandlordassociation.ca
SUMMARY:Death\, Drugs\, and Disastrous Messes
DESCRIPTION:
URL:https://saskatchewanlandlordassociation.ca/events/death-drugs-and-disastrous-messes/
LOCATION:Saskatoon Inn\, 2002 Airport Dr\, Saskatoon\, Saskatchewan
END:VEVENT
END:VCALENDAR